BEGIN:VCALENDAR
VERSION:2.0
PRODID:icalendar-ruby
CALSCALE:GREGORIAN
METHOD:PUBLISH
BEGIN:VEVENT
DTSTAMP:20260419T121509Z
UID:18-419521@bloomingdalefbc.org
DTSTART:20251012T144500Z
DTEND:20251012T160000Z
CLASS:PUBLIC
CREATED:20260419T030823
DESCRIPTION:
LAST-MODIFIED:20260419T030823
LOCATION:
SUMMARY:Morning Worship Service 
URL;VALUE=URI:https://www.bloomingdalefbc.org/events/morning-worship-servic
 e/2025-10-12
END:VEVENT
END:VCALENDAR
